BEGIN:VCALENDAR
VERSION:2.0
PRODID:-//eventon.com NONSGML v1.0//EN
CALSCALE:GREGORIAN
METHOD:PUBLISH
BEGIN:VEVENT
UID:69e9f15bb51a0
DTSTAMP:20260423T101555Z
DTSTART:20190224T220000Z
DTEND:20190224T235900Z
LOCATION:Centro de Convenciones de Punta del Este Av. Pedragosa Sierra S/N esq. Av. Aparicio Saravia
SUMMARY:La música de Lucas Sugo suena en el CEC
DESCRIPTION:[vc_row][vc_column][vc_column_text]El Domingo 24 de febrero a l
 as 22 hrs los esperamos con un show vibrante. En el Centro de Convenciones 
 de Punta del Este se presenta con todos sus éxitos Lucas Sugo. Entradas e
 n venta en ABITAB y en las boleterías del Centro el día del evento.[/vc_c
 olumn_text][vc_single_image image=&#8221;26333&#8243; img_size=&#8221;full&
 #8221;][/vc_column][/vc_row][vc_row][vc_column][vc_column_text]Lucas Sugo l
 lega[..]\nhttps://centrodeconvenciones.com.uy/eventos/la-musica-de-lucas-su
 go-suena-en-el-cec/
URL:https://centrodeconvenciones.com.uy/eventos/la-musica-de-lucas-sugo-suena-en-el-cec/
END:VEVENT
END:VCALENDAR